BEGIN:VCALENDAR
VERSION:2.0
PRODID:-//Wide River Winery - ECPv6.15.18//NONSGML v1.0//EN
CALSCALE:GREGORIAN
METHOD:PUBLISH
X-WR-CALNAME:Wide River Winery
X-ORIGINAL-URL:https://wideriverwinery.com
X-WR-CALDESC:Events for Wide River Winery
REFRESH-INTERVAL;VALUE=DURATION:PT1H
X-Robots-Tag:noindex
X-PUBLISHED-TTL:PT1H
BEGIN:VTIMEZONE
TZID:America/Chicago
BEGIN:DAYLIGHT
TZOFFSETFROM:-0600
TZOFFSETTO:-0500
TZNAME:CDT
DTSTART:20230312T080000
END:DAYLIGHT
BEGIN:STANDARD
TZOFFSETFROM:-0500
TZOFFSETTO:-0600
TZNAME:CST
DTSTART:20231105T070000
END:STANDARD
BEGIN:DAYLIGHT
TZOFFSETFROM:-0600
TZOFFSETTO:-0500
TZNAME:CDT
DTSTART:20240310T080000
END:DAYLIGHT
BEGIN:STANDARD
TZOFFSETFROM:-0500
TZOFFSETTO:-0600
TZNAME:CST
DTSTART:20241103T070000
END:STANDARD
BEGIN:DAYLIGHT
TZOFFSETFROM:-0600
TZOFFSETTO:-0500
TZNAME:CDT
DTSTART:20250309T080000
END:DAYLIGHT
BEGIN:STANDARD
TZOFFSETFROM:-0500
TZOFFSETTO:-0600
TZNAME:CST
DTSTART:20251102T070000
END:STANDARD
END:VTIMEZONE
BEGIN:VEVENT
DTSTART;TZID=America/Chicago:20240628T180000
DTEND;TZID=America/Chicago:20240628T200000
DTSTAMP:20260419T090545
CREATED:20240407T210649Z
LAST-MODIFIED:20240421T164038Z
UID:9766-1719597600-1719604800@wideriverwinery.com
SUMMARY:Live Folk/Jazz/Classical: Freegrass in LeClaire June 28th
DESCRIPTION:Come relax with wine and feel-good jazz from Freegrass! This trio combines their backgrounds in trad\, folk\, rock\, jazz\, and classical music to create a relaxing\, happy set. Combine that with our homegrown wine\, and you’re in for a great night. Event is from 6pm-8pm on Friday\, June 28th in LeClaire. Admission is free with purchase of wine and snacks.
URL:https://wideriverwinery.com/event/live-music-freegrass-in-leclaire-june-28th/
LOCATION:LeClaire\, 106 N Cody Road\, LeClaire\, IA\, 52753\, United States
CATEGORIES:LeClaire
END:VEVENT
END:VCALENDAR