BEGIN:VCALENDAR
VERSION:2.0
PRODID:-//Wide River Winery - ECPv6.15.18//NONSGML v1.0//EN
CALSCALE:GREGORIAN
METHOD:PUBLISH
X-WR-CALNAME:Wide River Winery
X-ORIGINAL-URL:https://wideriverwinery.com
X-WR-CALDESC:Events for Wide River Winery
REFRESH-INTERVAL;VALUE=DURATION:PT1H
X-Robots-Tag:noindex
X-PUBLISHED-TTL:PT1H
BEGIN:VTIMEZONE
TZID:America/Chicago
BEGIN:DAYLIGHT
TZOFFSETFROM:-0600
TZOFFSETTO:-0500
TZNAME:CDT
DTSTART:20230312T080000
END:DAYLIGHT
BEGIN:STANDARD
TZOFFSETFROM:-0500
TZOFFSETTO:-0600
TZNAME:CST
DTSTART:20231105T070000
END:STANDARD
BEGIN:DAYLIGHT
TZOFFSETFROM:-0600
TZOFFSETTO:-0500
TZNAME:CDT
DTSTART:20240310T080000
END:DAYLIGHT
BEGIN:STANDARD
TZOFFSETFROM:-0500
TZOFFSETTO:-0600
TZNAME:CST
DTSTART:20241103T070000
END:STANDARD
BEGIN:DAYLIGHT
TZOFFSETFROM:-0600
TZOFFSETTO:-0500
TZNAME:CDT
DTSTART:20250309T080000
END:DAYLIGHT
BEGIN:STANDARD
TZOFFSETFROM:-0500
TZOFFSETTO:-0600
TZNAME:CST
DTSTART:20251102T070000
END:STANDARD
END:VTIMEZONE
BEGIN:VEVENT
DTSTART;TZID=America/Chicago:20241006T140000
DTEND;TZID=America/Chicago:20241006T160000
DTSTAMP:20260420T034615
CREATED:20240709T203312Z
LAST-MODIFIED:20241001T211900Z
UID:9952-1728223200-1728230400@wideriverwinery.com
SUMMARY:Live Music: Travis Hosette in Clinton October 6th
DESCRIPTION:Come visit our scenic Clinton winery and enjoy a live musical performance from longtime Wide River favorite Travis Hosette! Travis is known around the Quad Cities for his Sinatra-like vocals that will have you believing you are listening to Ol’ Blue Eyes himself! This event is from 2pm-4pm on Sunday\, October 6th. Admission is free with purchase of wine or snacks. \nCheck out Travis performing here!
URL:https://wideriverwinery.com/event/travis-hosette-live-in-clinton-october-6/
LOCATION:Clinton\, 1776 E Deer Creek Rd\, Clinton\, IA\, 52763\, United States
CATEGORIES:Clinton
ATTACH;FMTTYPE=image/jpeg:https://wideriverwinery.com/wp-content/uploads/2022/01/travis-hosette2.jpg
ORGANIZER;CN="Wide River Tasting Room":MAILTO:Tastingroom@wideriverwinery.com
END:VEVENT
END:VCALENDAR