BEGIN:VCALENDAR
VERSION:2.0
PRODID:-//Wide River Winery - ECPv6.15.18//NONSGML v1.0//EN
CALSCALE:GREGORIAN
METHOD:PUBLISH
X-WR-CALNAME:Wide River Winery
X-ORIGINAL-URL:https://wideriverwinery.com
X-WR-CALDESC:Events for Wide River Winery
REFRESH-INTERVAL;VALUE=DURATION:PT1H
X-Robots-Tag:noindex
X-PUBLISHED-TTL:PT1H
BEGIN:VTIMEZONE
TZID:America/Chicago
BEGIN:DAYLIGHT
TZOFFSETFROM:-0600
TZOFFSETTO:-0500
TZNAME:CDT
DTSTART:20240310T080000
END:DAYLIGHT
BEGIN:STANDARD
TZOFFSETFROM:-0500
TZOFFSETTO:-0600
TZNAME:CST
DTSTART:20241103T070000
END:STANDARD
BEGIN:DAYLIGHT
TZOFFSETFROM:-0600
TZOFFSETTO:-0500
TZNAME:CDT
DTSTART:20250309T080000
END:DAYLIGHT
BEGIN:STANDARD
TZOFFSETFROM:-0500
TZOFFSETTO:-0600
TZNAME:CST
DTSTART:20251102T070000
END:STANDARD
BEGIN:DAYLIGHT
TZOFFSETFROM:-0600
TZOFFSETTO:-0500
TZNAME:CDT
DTSTART:20260308T080000
END:DAYLIGHT
BEGIN:STANDARD
TZOFFSETFROM:-0500
TZOFFSETTO:-0600
TZNAME:CST
DTSTART:20261101T070000
END:STANDARD
END:VTIMEZONE
BEGIN:VEVENT
DTSTART;TZID=America/Chicago:20250907T110000
DTEND;TZID=America/Chicago:20250907T130000
DTSTAMP:20260421T064256
CREATED:20250422T172829Z
LAST-MODIFIED:20250422T172829Z
UID:10499-1757242800-1757250000@wideriverwinery.com
SUMMARY:Ed James in Clinton!
DESCRIPTION:Ed James is a singer/songwriter hailing from Moline who has graced stages around the Quad Cities both as a rhythm guitarist in multiple bands and as a solo performing act. On September 7th. Ed will be taking over the deck of our Clinton tasting room\, debuting his acoustic talents during our 11-1 pm wine brunch! Join us on a beautiful Sunday to enjoy the views of the Mississippi with your favorite wine as Ed James covers everything from the Beatles to the Eagles! This will be a performance you wont want to miss! \nCheck out Ed James’ lengthy artist page here! 
URL:https://wideriverwinery.com/event/ed-james-in-clinton/
LOCATION:Clinton\, 1776 E Deer Creek Rd\, Clinton\, IA\, 52763\, United States
CATEGORIES:Clinton
ATTACH;FMTTYPE=image/jpeg:https://wideriverwinery.com/wp-content/uploads/2025/04/A52B150C-425A-4CA1-B7BD-851DC7EAA648.jpeg
END:VEVENT
END:VCALENDAR