BEGIN:VCALENDAR
VERSION:2.0
PRODID:-//Wide River Winery - ECPv6.15.18//NONSGML v1.0//EN
CALSCALE:GREGORIAN
METHOD:PUBLISH
X-ORIGINAL-URL:https://wideriverwinery.com
X-WR-CALDESC:Events for Wide River Winery
REFRESH-INTERVAL;VALUE=DURATION:PT1H
X-Robots-Tag:noindex
X-PUBLISHED-TTL:PT1H
BEGIN:VTIMEZONE
TZID:America/Chicago
BEGIN:DAYLIGHT
TZOFFSETFROM:-0600
TZOFFSETTO:-0500
TZNAME:CDT
DTSTART:20240310T080000
END:DAYLIGHT
BEGIN:STANDARD
TZOFFSETFROM:-0500
TZOFFSETTO:-0600
TZNAME:CST
DTSTART:20241103T070000
END:STANDARD
BEGIN:DAYLIGHT
TZOFFSETFROM:-0600
TZOFFSETTO:-0500
TZNAME:CDT
DTSTART:20250309T080000
END:DAYLIGHT
BEGIN:STANDARD
TZOFFSETFROM:-0500
TZOFFSETTO:-0600
TZNAME:CST
DTSTART:20251102T070000
END:STANDARD
BEGIN:DAYLIGHT
TZOFFSETFROM:-0600
TZOFFSETTO:-0500
TZNAME:CDT
DTSTART:20260308T080000
END:DAYLIGHT
BEGIN:STANDARD
TZOFFSETFROM:-0500
TZOFFSETTO:-0600
TZNAME:CST
DTSTART:20261101T070000
END:STANDARD
END:VTIMEZONE
BEGIN:VEVENT
DTSTART;TZID=America/Chicago:20250914T140000
DTEND;TZID=America/Chicago:20250914T160000
DTSTAMP:20260421T025742
CREATED:20250404T215550Z
LAST-MODIFIED:20250404T215550Z
UID:10424-1757858400-1757865600@wideriverwinery.com
SUMMARY:Doug Brundies Rockin’ LeClaire Live!
DESCRIPTION:Doug Brundies Big Acoustic show is coming to our LeClaire tasting room on Sunday\, September 14th from 2-4pm! Having played several shows throughout the quad cities\, Doug Brundies Big Acoustic Show is a phenomenon you wont want to miss! Paired with a bottle of your favorite wine\, a tasty snack\, and a front row seat\, this is sure to make your Sunday afternoon special! \nListen to Doug Brundies perform “American Girl” here!  \n 
URL:https://wideriverwinery.com/event/doug-brundies-rockin-leclaire-live/
LOCATION:LeClaire\, 106 N Cody Road\, LeClaire\, IA\, 52753\, United States
CATEGORIES:LeClaire
ATTACH;FMTTYPE=image/jpeg:https://wideriverwinery.com/wp-content/uploads/2025/04/IMG_0041.jpeg
END:VEVENT
END:VCALENDAR