BEGIN:VCALENDAR
VERSION:2.0
PRODID:-//Wide River Winery - ECPv6.15.18//NONSGML v1.0//EN
CALSCALE:GREGORIAN
METHOD:PUBLISH
X-ORIGINAL-URL:https://wideriverwinery.com
X-WR-CALDESC:Events for Wide River Winery
REFRESH-INTERVAL;VALUE=DURATION:PT1H
X-Robots-Tag:noindex
X-PUBLISHED-TTL:PT1H
BEGIN:VTIMEZONE
TZID:America/Chicago
BEGIN:DAYLIGHT
TZOFFSETFROM:-0600
TZOFFSETTO:-0500
TZNAME:CDT
DTSTART:20250309T080000
END:DAYLIGHT
BEGIN:STANDARD
TZOFFSETFROM:-0500
TZOFFSETTO:-0600
TZNAME:CST
DTSTART:20251102T070000
END:STANDARD
BEGIN:DAYLIGHT
TZOFFSETFROM:-0600
TZOFFSETTO:-0500
TZNAME:CDT
DTSTART:20260308T080000
END:DAYLIGHT
BEGIN:STANDARD
TZOFFSETFROM:-0500
TZOFFSETTO:-0600
TZNAME:CST
DTSTART:20261101T070000
END:STANDARD
BEGIN:DAYLIGHT
TZOFFSETFROM:-0600
TZOFFSETTO:-0500
TZNAME:CDT
DTSTART:20270314T080000
END:DAYLIGHT
BEGIN:STANDARD
TZOFFSETFROM:-0500
TZOFFSETTO:-0600
TZNAME:CST
DTSTART:20271107T070000
END:STANDARD
END:VTIMEZONE
BEGIN:VEVENT
DTSTART;TZID=America/Chicago:20260503T110000
DTEND;TZID=America/Chicago:20260510T180000
DTSTAMP:20260425T073705
CREATED:20260424T193959Z
LAST-MODIFIED:20260424T193959Z
UID:11044-1777806000-1778436000@wideriverwinery.com
SUMMARY:Happy Mother's Day! Celebrate With Us At All 3 Wide River Locations
DESCRIPTION:Happy Mother’s day week! To celebrate your special day we are having our live music brunch in our Clinton tasting room on Mother’s Day; but we want to celebrate you the entire week leading up to it too! Treat Mom (or yourself) to a flight of our most popular wines paired with desserts and cheese crafted to delight every palate. \nFrom May 3rd through the 10th at all three locations\, enjoy three generous two ounce pours of award winning wine\, complimented by two desserts made in house\, and locally sourced aged cheddar cheese. \nSample our best selling Pursuit of Happiness with our decadent\, homemade chocolate torte. Savor the notes of Raspberry and Verona grapes complimented by the rich\, chocolaty indulgence of our torte. \nEnjoy our Sherry fortified wine: Not Guilty\, paired with our Honey Walnut Bars. Experience the delicious notes of caramel and nutty sherry flavors enhanced with honey and walnut\, balanced with a buttery shortbread crunch. \nEnd with a special tasting of our most recent award winning dry red wine: Conviction and locally sourced aged cheddar cheese. Balance the jammy\, fruit forward decadence of Tempranillo and estate grown grapes with a sharp\, creamy white cheddar. \nEnjoy all three tastings and food pairings for just $15. If you are a member of the wine club\, enjoy the same food and wine flight for $12. Happy Mother’s Day from all of us at Wide River Winery! \n 
URL:https://wideriverwinery.com/event/happy-mothers-day-celebrate-with-us-at-all-3-wide-river-locations/
LOCATION:All Locations
CATEGORIES:Clinton,Davenport,LeClaire
ATTACH;FMTTYPE=image/png:https://wideriverwinery.com/wp-content/uploads/2026/04/Mothers-Day-Flight.png
END:VEVENT
END:VCALENDAR