BEGIN:VCALENDAR
VERSION:2.0
PRODID:-//Wide River Winery - ECPv6.15.18//NONSGML v1.0//EN
CALSCALE:GREGORIAN
METHOD:PUBLISH
X-ORIGINAL-URL:https://wideriverwinery.com
X-WR-CALDESC:Events for Wide River Winery
REFRESH-INTERVAL;VALUE=DURATION:PT1H
X-Robots-Tag:noindex
X-PUBLISHED-TTL:PT1H
BEGIN:VTIMEZONE
TZID:America/Chicago
BEGIN:DAYLIGHT
TZOFFSETFROM:-0600
TZOFFSETTO:-0500
TZNAME:CDT
DTSTART:20240310T080000
END:DAYLIGHT
BEGIN:STANDARD
TZOFFSETFROM:-0500
TZOFFSETTO:-0600
TZNAME:CST
DTSTART:20241103T070000
END:STANDARD
BEGIN:DAYLIGHT
TZOFFSETFROM:-0600
TZOFFSETTO:-0500
TZNAME:CDT
DTSTART:20250309T080000
END:DAYLIGHT
BEGIN:STANDARD
TZOFFSETFROM:-0500
TZOFFSETTO:-0600
TZNAME:CST
DTSTART:20251102T070000
END:STANDARD
BEGIN:DAYLIGHT
TZOFFSETFROM:-0600
TZOFFSETTO:-0500
TZNAME:CDT
DTSTART:20260308T080000
END:DAYLIGHT
BEGIN:STANDARD
TZOFFSETFROM:-0500
TZOFFSETTO:-0600
TZNAME:CST
DTSTART:20261101T070000
END:STANDARD
END:VTIMEZONE
BEGIN:VEVENT
DTSTART;TZID=America/Chicago:20250706T110000
DTEND;TZID=America/Chicago:20250706T130000
DTSTAMP:20260420T063716
CREATED:20250408T210833Z
LAST-MODIFIED:20250408T210833Z
UID:10443-1751799600-1751806800@wideriverwinery.com
SUMMARY:Marques Morel live in Clinton
DESCRIPTION:Marcus Morel headlined our customer appreciation event as our last musical performance of 2024! A Wide River Favorite\, Marques will be featured throughout our tasting rooms this year as well; starting with a Sunday Brunch performance from 11-1pm at our Clinton Vineyard and Tasting Room. Join us in listening to a set of Marques Morel original tracks! \nMarques is also celebrating the release of his 5th studio album Tales and Tellings which is available now! Listen to an original track here!
URL:https://wideriverwinery.com/event/marques-morel-live-in-clinton/
LOCATION:Clinton\, 1776 E Deer Creek Rd\, Clinton\, IA\, 52763\, United States
CATEGORIES:Clinton
ATTACH;FMTTYPE=image/jpeg:https://wideriverwinery.com/wp-content/uploads/2025/04/E2E91803-8BD8-44AA-8678-21577CF2A03B_4_5005_c.jpeg
END:VEVENT
END:VCALENDAR