BEGIN:VCALENDAR
VERSION:2.0
PRODID:-//Wide River Winery - ECPv6.15.18//NONSGML v1.0//EN
CALSCALE:GREGORIAN
METHOD:PUBLISH
X-ORIGINAL-URL:https://wideriverwinery.com
X-WR-CALDESC:Events for Wide River Winery
REFRESH-INTERVAL;VALUE=DURATION:PT1H
X-Robots-Tag:noindex
X-PUBLISHED-TTL:PT1H
BEGIN:VTIMEZONE
TZID:America/Chicago
BEGIN:DAYLIGHT
TZOFFSETFROM:-0600
TZOFFSETTO:-0500
TZNAME:CDT
DTSTART:20220313T080000
END:DAYLIGHT
BEGIN:STANDARD
TZOFFSETFROM:-0500
TZOFFSETTO:-0600
TZNAME:CST
DTSTART:20221106T070000
END:STANDARD
BEGIN:DAYLIGHT
TZOFFSETFROM:-0600
TZOFFSETTO:-0500
TZNAME:CDT
DTSTART:20230312T080000
END:DAYLIGHT
BEGIN:STANDARD
TZOFFSETFROM:-0500
TZOFFSETTO:-0600
TZNAME:CST
DTSTART:20231105T070000
END:STANDARD
BEGIN:DAYLIGHT
TZOFFSETFROM:-0600
TZOFFSETTO:-0500
TZNAME:CDT
DTSTART:20240310T080000
END:DAYLIGHT
BEGIN:STANDARD
TZOFFSETFROM:-0500
TZOFFSETTO:-0600
TZNAME:CST
DTSTART:20241103T070000
END:STANDARD
END:VTIMEZONE
BEGIN:VEVENT
DTSTART;TZID=America/Chicago:20230719T173000
DTEND;TZID=America/Chicago:20230719T193000
DTSTAMP:20260421T102240
CREATED:20230628T150138Z
LAST-MODIFIED:20230628T150600Z
UID:9236-1689787800-1689795000@wideriverwinery.com
SUMMARY:Flower Arrangement and Wine Workshop in Clinton July 19th
DESCRIPTION:Collaborating with flower expert Connie King from Prairie Bell Enterprises\, Wide River Winery is offering a series of flower arrangement classes.  July 19th is at our  winery location 1776 E Deer Creek Rd\, Clinton\, IA.  Price per person is $50 and includes one glass of wine\, wine slushy\, draft beer or non alcohol offering\, snacks and your flower arrangement and vase. Class is limited to 20 people.  Click HERE to purchase and reserve your spot today.
URL:https://wideriverwinery.com/event/flower-arrangement-and-wine-workshop-in-clinton-july-19th/
LOCATION:Clinton\, 1776 E Deer Creek Rd\, Clinton\, IA\, 52763\, United States
CATEGORIES:Clinton
ATTACH;FMTTYPE=image/jpeg:https://wideriverwinery.com/wp-content/uploads/2023/05/First-Flower-Workshop_Kathy_small.jpg
END:VEVENT
END:VCALENDAR