BEGIN:VCALENDAR
VERSION:2.0
PRODID:-//Wide River Winery - ECPv6.15.18//NONSGML v1.0//EN
CALSCALE:GREGORIAN
METHOD:PUBLISH
X-ORIGINAL-URL:https://wideriverwinery.com
X-WR-CALDESC:Events for Wide River Winery
REFRESH-INTERVAL;VALUE=DURATION:PT1H
X-Robots-Tag:noindex
X-PUBLISHED-TTL:PT1H
BEGIN:VTIMEZONE
TZID:America/Chicago
BEGIN:DAYLIGHT
TZOFFSETFROM:-0600
TZOFFSETTO:-0500
TZNAME:CDT
DTSTART:20220313T080000
END:DAYLIGHT
BEGIN:STANDARD
TZOFFSETFROM:-0500
TZOFFSETTO:-0600
TZNAME:CST
DTSTART:20221106T070000
END:STANDARD
BEGIN:DAYLIGHT
TZOFFSETFROM:-0600
TZOFFSETTO:-0500
TZNAME:CDT
DTSTART:20230312T080000
END:DAYLIGHT
BEGIN:STANDARD
TZOFFSETFROM:-0500
TZOFFSETTO:-0600
TZNAME:CST
DTSTART:20231105T070000
END:STANDARD
BEGIN:DAYLIGHT
TZOFFSETFROM:-0600
TZOFFSETTO:-0500
TZNAME:CDT
DTSTART:20240310T080000
END:DAYLIGHT
BEGIN:STANDARD
TZOFFSETFROM:-0500
TZOFFSETTO:-0600
TZNAME:CST
DTSTART:20241103T070000
END:STANDARD
END:VTIMEZONE
BEGIN:VEVENT
DTSTART;TZID=America/Chicago:20230723T150000
DTEND;TZID=America/Chicago:20230723T170000
DTSTAMP:20260421T164503
CREATED:20230116T201041Z
LAST-MODIFIED:20230116T201041Z
UID:8914-1690124400-1690131600@wideriverwinery.com
SUMMARY:Live Music in Clinton July 23rd: Matt Hamilton
DESCRIPTION:Stop by our Clinton tasting room between 3pm-5pm on Sunday\, July 23rd 2023 to unwind with locally grown Iowa wine and a live musical set from Matt Hamilton. Matt Hamilton performs acoustic sets around the Quad Cities. Admission is free with purchase of wine and snacks.
URL:https://wideriverwinery.com/event/live-music-in-clinton-july-23rd-matt-hamilton/
LOCATION:Clinton\, 1776 E Deer Creek Rd\, Clinton\, IA\, 52763\, United States
CATEGORIES:Clinton
END:VEVENT
END:VCALENDAR