BEGIN:VCALENDAR
VERSION:2.0
PRODID:-//Wide River Winery - ECPv6.15.18//NONSGML v1.0//EN
CALSCALE:GREGORIAN
METHOD:PUBLISH
X-WR-CALNAME:Wide River Winery
X-ORIGINAL-URL:https://wideriverwinery.com
X-WR-CALDESC:Events for Wide River Winery
REFRESH-INTERVAL;VALUE=DURATION:PT1H
X-Robots-Tag:noindex
X-PUBLISHED-TTL:PT1H
BEGIN:VTIMEZONE
TZID:America/Chicago
BEGIN:DAYLIGHT
TZOFFSETFROM:-0600
TZOFFSETTO:-0500
TZNAME:CDT
DTSTART:20230312T080000
END:DAYLIGHT
BEGIN:STANDARD
TZOFFSETFROM:-0500
TZOFFSETTO:-0600
TZNAME:CST
DTSTART:20231105T070000
END:STANDARD
BEGIN:DAYLIGHT
TZOFFSETFROM:-0600
TZOFFSETTO:-0500
TZNAME:CDT
DTSTART:20240310T080000
END:DAYLIGHT
BEGIN:STANDARD
TZOFFSETFROM:-0500
TZOFFSETTO:-0600
TZNAME:CST
DTSTART:20241103T070000
END:STANDARD
BEGIN:DAYLIGHT
TZOFFSETFROM:-0600
TZOFFSETTO:-0500
TZNAME:CDT
DTSTART:20250309T080000
END:DAYLIGHT
BEGIN:STANDARD
TZOFFSETFROM:-0500
TZOFFSETTO:-0600
TZNAME:CST
DTSTART:20251102T070000
END:STANDARD
END:VTIMEZONE
BEGIN:VEVENT
DTSTART;TZID=America/Chicago:20240706T150000
DTEND;TZID=America/Chicago:20240706T170000
DTSTAMP:20260421T091404
CREATED:20240421T164147Z
LAST-MODIFIED:20240421T164147Z
UID:9785-1720278000-1720285200@wideriverwinery.com
SUMMARY:Live Acoustic Music: Mo Carter in Davenport July 6th
DESCRIPTION:Come enjoy wine and a show from longtime Wide River performer Mo Carter! Mo is known for her soulful voice and plays a variety of acoustic covers and originals. Event is 3pm-5pm on Saturday July 6th in our Davenport tasting room. Admission is free with purchase of wine and snacks.
URL:https://wideriverwinery.com/event/live-acoustic-music-mo-carter-in-davenport-july-6th/
LOCATION:Village of East Davenport\, 1128 Mound Street\, Davenport\, IA\, 52803\, United States
CATEGORIES:Davenport
END:VEVENT
BEGIN:VEVENT
DTSTART;TZID=America/Chicago:20240717T173000
DTEND;TZID=America/Chicago:20240717T193000
DTSTAMP:20260421T091404
CREATED:20240620T153118Z
LAST-MODIFIED:20240620T170231Z
UID:9893-1721237400-1721244600@wideriverwinery.com
SUMMARY:Flower Arrangement and Wine Workshop in Village Wed July 17th
DESCRIPTION:Collaborating with flower expert Connie King from Prairie Bell Enterprises\, Wide River Winery is offering a series of flower arrangement classes.  Wednesday\, July 17th at our Village of East Davenport tasting room location 1128 Mound St\, Davenport is our next one! Price per person is $50 and includes one glass of wine\, wine slushy\, draft beer or non alcohol offering\, snacks and your flower arrangement and vase. Class is limited to 16 people. Click HERE to purchase and reserve your spot today. \n 
URL:https://wideriverwinery.com/event/flower-arrangement-july17th/
LOCATION:Village of East Davenport\, 1128 Mound Street\, Davenport\, IA\, 52803\, United States
CATEGORIES:Davenport
ATTACH;FMTTYPE=image/jpeg:https://wideriverwinery.com/wp-content/uploads/2023/05/First-Flower-Workshop_Kathy_small.jpg
END:VEVENT
BEGIN:VEVENT
DTSTART;TZID=America/Chicago:20240720T150000
DTEND;TZID=America/Chicago:20240720T170000
DTSTAMP:20260421T091404
CREATED:20240421T165225Z
LAST-MODIFIED:20240421T165225Z
UID:9804-1721487600-1721494800@wideriverwinery.com
SUMMARY:Live Country/Rock: Michael Moncada in Davenport July 20th
DESCRIPTION:Stop by our Davenport tasting room between 3pm-5pm on Saturday\, July 20th and enjoy good times\, great wines\, and live music from Michael Moncada. Michael Moncada fronts Whiskey High\, a country and rock band\, and will be performing a solo acoustic set. Admission is free with purchase of wine and snacks.
URL:https://wideriverwinery.com/event/live-country-rock-michael-moncada-in-davenport-july-20th/
LOCATION:Village of East Davenport\, 1128 Mound Street\, Davenport\, IA\, 52803\, United States
CATEGORIES:Davenport
END:VEVENT
END:VCALENDAR