BEGIN:VCALENDAR
VERSION:2.0
PRODID:-//Wide River Winery - ECPv6.15.18//NONSGML v1.0//EN
CALSCALE:GREGORIAN
METHOD:PUBLISH
X-WR-CALNAME:Wide River Winery
X-ORIGINAL-URL:https://wideriverwinery.com
X-WR-CALDESC:Events for Wide River Winery
REFRESH-INTERVAL;VALUE=DURATION:PT1H
X-Robots-Tag:noindex
X-PUBLISHED-TTL:PT1H
BEGIN:VTIMEZONE
TZID:America/Chicago
BEGIN:DAYLIGHT
TZOFFSETFROM:-0600
TZOFFSETTO:-0500
TZNAME:CDT
DTSTART:20240310T080000
END:DAYLIGHT
BEGIN:STANDARD
TZOFFSETFROM:-0500
TZOFFSETTO:-0600
TZNAME:CST
DTSTART:20241103T070000
END:STANDARD
BEGIN:DAYLIGHT
TZOFFSETFROM:-0600
TZOFFSETTO:-0500
TZNAME:CDT
DTSTART:20250309T080000
END:DAYLIGHT
BEGIN:STANDARD
TZOFFSETFROM:-0500
TZOFFSETTO:-0600
TZNAME:CST
DTSTART:20251102T070000
END:STANDARD
BEGIN:DAYLIGHT
TZOFFSETFROM:-0600
TZOFFSETTO:-0500
TZNAME:CDT
DTSTART:20260308T080000
END:DAYLIGHT
BEGIN:STANDARD
TZOFFSETFROM:-0500
TZOFFSETTO:-0600
TZNAME:CST
DTSTART:20261101T070000
END:STANDARD
END:VTIMEZONE
BEGIN:VEVENT
DTSTART;TZID=America/Chicago:20251012T140000
DTEND;TZID=America/Chicago:20251012T160000
DTSTAMP:20260420T064059
CREATED:20250408T173514Z
LAST-MODIFIED:20250408T173514Z
UID:10434-1760277600-1760284800@wideriverwinery.com
SUMMARY:Marques Morel Live in Leclaire!
DESCRIPTION:Marques Morel will bring his musical talents back to LeClaire for a live performance on October 12\, from 2-4pm! Marques is known for his original country folk songs that have graced the stage of all of our tasting rooms and many other venues throughout the Quad Cities. He has put out multiple albums\, can be heard on major music streaming platforms and averages over 300 continuous listeners on Spotify. Marques will take the stage as one of our final music performers of the season. This is a guaranteed great time that you wont want to miss! This event is free with the purchase of wine\, slush\, food\, or other beverage. \nCheck out Marques Morel’s albums\, discography and see his tour schedule here! 
URL:https://wideriverwinery.com/event/marques-morel-live-in-leclaire/
LOCATION:LeClaire\, 106 N Cody Road\, LeClaire\, IA\, 52753\, United States
CATEGORIES:LeClaire
ATTACH;FMTTYPE=image/jpeg:https://wideriverwinery.com/wp-content/uploads/2025/04/40865196-0E24-4583-AC08-04FB4FC60DE2.jpeg
END:VEVENT
BEGIN:VEVENT
DTSTART;TZID=America/Chicago:20251025T103000
DTEND;TZID=America/Chicago:20251025T123000
DTSTAMP:20260420T064059
CREATED:20251017T173012Z
LAST-MODIFIED:20251017T173220Z
UID:10704-1761388200-1761395400@wideriverwinery.com
SUMMARY:Witches Walk LeClaire!
DESCRIPTION:Are you ready to channel your inner witch? The annual LeClaire witches walk and trunk or treat is coming back this October\, 25th!  \nStarting at 10:30am\, the LeClaire witches walk is the perfect chance to channel your inner Hocus Pocus and bring the whole family to trick or treat at the many shops in LeClaire. Starting at the Civic Center\, there will be a costume contest from 10:30 to 11:30\, followed by games\, balloon animals\, and a trunk or treat in the Civic center parking lot. Afterwards\, hit the town and trick or treat in the many unique shops that LeClaire has to offer. All participating locations will have a trick-or-treat flyer posted outside. \nWhile the official witches walk will wrap up around 12:3o\, we will be here for the afterparty! Make sure to come and see us for candy\, wine slushies\, and your favorite bottles of wine before you wrap up your visit!
URL:https://wideriverwinery.com/event/witches-walk-leclaire/
CATEGORIES:LeClaire
ATTACH;FMTTYPE=image/jpeg:https://wideriverwinery.com/wp-content/uploads/2025/10/WitchesWalk2025_lxhm.jpg
END:VEVENT
BEGIN:VEVENT
DTSTART;TZID=America/Chicago:20251029T180000
DTEND;TZID=America/Chicago:20251029T200000
DTSTAMP:20260420T064059
CREATED:20251009T170937Z
LAST-MODIFIED:20251009T220606Z
UID:10692-1761760800-1761768000@wideriverwinery.com
SUMMARY:Ghost Hunting In LeClaire!
DESCRIPTION:Are you ready to become a paranormal investigator?  \nThe town of LeClaire has a vibrant history dating back further than it’s founding date in 1855. Filled with incredible stories from being Buffalo Bill Cody’s childhood stomping grounds to the booming success as a vital Mississipi River port\, LeClaire has a charm and magical feeling that can only be found in a town with such a rich\, incredible history. According to some though\, not all of this history has stayed in the past.. \nJoin us on October 29th from 6-8pm with the legendary QC Haunts and History team to investigate the paranormal activity surrounding our LeClaire tasting room. Learn about the history surrounding our building\, the town of LeClaire and receive a brief introduction into paranormal investigating. Then suit up with the QC Haunts and History team and explore our tasting room after hours.  Learn how to use specialized ghost hunting equipment to make contact with the afterlife\, explore our historic building and perhaps have a once in a lifetime experience of seeing a ghost. \nWe’ll be there every step of the way too! Providing you with your favorite wine\, cold slushies\, or other beverages and a handheld charcuterie cup for your paranormal journey. This is a Halloween event you don’t want to miss. Tickets are on sale now and limited to 20 paranormal investigators. We can’t wait to see you there! \nGet Your Tickets Here!
URL:https://wideriverwinery.com/event/ghost-hunting-in-leclaire/
CATEGORIES:LeClaire
ATTACH;FMTTYPE=image/jpeg:https://wideriverwinery.com/wp-content/uploads/2025/10/IMG_3921.jpeg
END:VEVENT
END:VCALENDAR