BEGIN:VCALENDAR
VERSION:2.0
PRODID:-//Wide River Winery - ECPv6.15.18//NONSGML v1.0//EN
CALSCALE:GREGORIAN
METHOD:PUBLISH
X-WR-CALNAME:Wide River Winery
X-ORIGINAL-URL:https://wideriverwinery.com
X-WR-CALDESC:Events for Wide River Winery
REFRESH-INTERVAL;VALUE=DURATION:PT1H
X-Robots-Tag:noindex
X-PUBLISHED-TTL:PT1H
BEGIN:VTIMEZONE
TZID:America/Chicago
BEGIN:DAYLIGHT
TZOFFSETFROM:-0600
TZOFFSETTO:-0500
TZNAME:CDT
DTSTART:20250309T080000
END:DAYLIGHT
BEGIN:STANDARD
TZOFFSETFROM:-0500
TZOFFSETTO:-0600
TZNAME:CST
DTSTART:20251102T070000
END:STANDARD
BEGIN:DAYLIGHT
TZOFFSETFROM:-0600
TZOFFSETTO:-0500
TZNAME:CDT
DTSTART:20260308T080000
END:DAYLIGHT
BEGIN:STANDARD
TZOFFSETFROM:-0500
TZOFFSETTO:-0600
TZNAME:CST
DTSTART:20261101T070000
END:STANDARD
BEGIN:DAYLIGHT
TZOFFSETFROM:-0600
TZOFFSETTO:-0500
TZNAME:CDT
DTSTART:20270314T080000
END:DAYLIGHT
BEGIN:STANDARD
TZOFFSETFROM:-0500
TZOFFSETTO:-0600
TZNAME:CST
DTSTART:20271107T070000
END:STANDARD
END:VTIMEZONE
BEGIN:VEVENT
DTSTART;TZID=America/Chicago:20260119T080000
DTEND;TZID=America/Chicago:20260208T233000
DTSTAMP:20260424T073458
CREATED:20260119T215620Z
LAST-MODIFIED:20260119T215620Z
UID:10845-1768809600-1770593400@wideriverwinery.com
SUMMARY:Enter Now To Win A Valentines Iowa Wine Country Getaway
DESCRIPTION:The Iowa Wine Growers association is giving away a two-night stay in the heart of Iowa’s Wine Country and we are so excited to be a part of their fantastic Valentines Day prize. The lucky winner of this giveaway will receive a complimentary tasting for two\, along with a two day retreat at one of the following destinations: \nOur Wide River Inn in LeClaire \nOur River Lodge in Clinton \nOr elect to stay at the Wooden Wheel Winery in Keota. \nParticpants must submit their name and email address at the link below by February 8th. A winner will be selected and announced on February 10th. This prize can be redeemed up to April 1\,2026 \nEnter The Giveaway Here
URL:https://wideriverwinery.com/event/enter-now-to-win-a-valentines-iowa-wine-country-getaway/
CATEGORIES:Clinton,LeClaire
ATTACH;FMTTYPE=image/webp:https://wideriverwinery.com/wp-content/uploads/2026/01/Iowa-wine-giveaway.webp
END:VEVENT
BEGIN:VEVENT
DTSTART;TZID=America/Chicago:20260205T170000
DTEND;TZID=America/Chicago:20260205T190000
DTSTAMP:20260424T073458
CREATED:20260109T192541Z
LAST-MODIFIED:20260114T184454Z
UID:10821-1770310800-1770318000@wideriverwinery.com
SUMMARY:February 5th: Sip\, Graze & Shop With Your Besties in LeClaire
DESCRIPTION:Start the Galentine’s Day fun early with a shopping spree with your wine tribe!  \nOn February 5th\, from 5-7pm our LeClaire tasting room will be hosting a Galentine’s day shopping extravaganza. Starting at our tasting room\, enjoy our delicious wine with an elegant sweet and savory spread from our grazing table. Our neighbor Liv from Nest will be hosting a pop-up shop featuring her permanent jewelry. Mary Beth\, owner of Beneath the Bark will be showcasing her hand made charcuterie boards\, perfect to elevate any Galentine’s Day gatherings at home. \nSip\, Graze and Shop admission is free. Visits to the grazing table are available for $10 per person and our full wine menu will be available throughout the event.  Please RSVP here to help us determine our head count. \n                   
URL:https://wideriverwinery.com/event/february-5th-sip-graze-shop-with-your-besties-in-leclaire/
LOCATION:LeClaire\, 106 N Cody Road\, LeClaire\, IA\, 52753\, United States
CATEGORIES:LeClaire
ATTACH;FMTTYPE=image/jpeg:https://wideriverwinery.com/wp-content/uploads/2026/01/sip-graze-and-shop.jpg
END:VEVENT
BEGIN:VEVENT
DTSTART;TZID=America/Chicago:20260216T110000
DTEND;TZID=America/Chicago:20260216T170000
DTSTAMP:20260424T073458
CREATED:20260203T183448Z
LAST-MODIFIED:20260213T212620Z
UID:10874-1771239600-1771261200@wideriverwinery.com
SUMMARY:Celebrate Presidents Day With Us- Clinton & LeClaire Tasting Rooms Will Be Open
DESCRIPTION:Do you find that you’re missing your favorite wine on Monday’s in LeClaire? We have some great news for you! While our winter hours are still in effect\, we will be open on Monday\, February 16th for the President’s Day Holiday. Come visit us for good times\, delicious wine and to wind down your three day weekend- at our Clinton and LeClaire tasting room locations. We can’t wait to see you there!
URL:https://wideriverwinery.com/event/celebrate-presidents-day-with-us-all-three-tasting-rooms-will-be-open/
CATEGORIES:Clinton,LeClaire
ATTACH;FMTTYPE=image/jpeg:https://wideriverwinery.com/wp-content/uploads/2026/02/02_23_8_presidents_who_loved_wine_a_lot_hero_gettyimages_1314511793_3307738_3246312_3246300_1920x1280.jpeg
END:VEVENT
BEGIN:VEVENT
DTSTART;TZID=America/Chicago:20260221T110000
DTEND;TZID=America/Chicago:20260221T180000
DTSTAMP:20260424T073458
CREATED:20260203T181413Z
LAST-MODIFIED:20260203T181413Z
UID:10872-1771671600-1771696800@wideriverwinery.com
SUMMARY:LeClaire Coco Crawl Is February 21st
DESCRIPTION:Join us in LeClaire for the town’s annual Coco-Crawl on February 21st. Celebrating all things chocolate\, the Coco Crawl is a great chance to visit local shops around LeClaire and sample a variety of delicious chocolate. Be sure to stop by our tasting room to learn about the best wine and chocolate pairings.
URL:https://wideriverwinery.com/event/leclaire-coco-crawl-is-february-21st/
LOCATION:LeClaire\, 106 N Cody Road\, LeClaire\, IA\, 52753\, United States
CATEGORIES:LeClaire
ATTACH;FMTTYPE=image/png:https://wideriverwinery.com/wp-content/uploads/2026/02/Black-and-White-Minimalist-Online-Marketing-Coach-Booking-Instagram-Post.png
END:VEVENT
END:VCALENDAR