BEGIN:VCALENDAR
VERSION:2.0
PRODID:-//Wide River Winery - ECPv6.15.18//NONSGML v1.0//EN
CALSCALE:GREGORIAN
METHOD:PUBLISH
X-WR-CALNAME:Wide River Winery
X-ORIGINAL-URL:https://wideriverwinery.com
X-WR-CALDESC:Events for Wide River Winery
REFRESH-INTERVAL;VALUE=DURATION:PT1H
X-Robots-Tag:noindex
X-PUBLISHED-TTL:PT1H
BEGIN:VTIMEZONE
TZID:America/Chicago
BEGIN:DAYLIGHT
TZOFFSETFROM:-0600
TZOFFSETTO:-0500
TZNAME:CDT
DTSTART:20240310T080000
END:DAYLIGHT
BEGIN:STANDARD
TZOFFSETFROM:-0500
TZOFFSETTO:-0600
TZNAME:CST
DTSTART:20241103T070000
END:STANDARD
BEGIN:DAYLIGHT
TZOFFSETFROM:-0600
TZOFFSETTO:-0500
TZNAME:CDT
DTSTART:20250309T080000
END:DAYLIGHT
BEGIN:STANDARD
TZOFFSETFROM:-0500
TZOFFSETTO:-0600
TZNAME:CST
DTSTART:20251102T070000
END:STANDARD
BEGIN:DAYLIGHT
TZOFFSETFROM:-0600
TZOFFSETTO:-0500
TZNAME:CDT
DTSTART:20260308T080000
END:DAYLIGHT
BEGIN:STANDARD
TZOFFSETFROM:-0500
TZOFFSETTO:-0600
TZNAME:CST
DTSTART:20261101T070000
END:STANDARD
END:VTIMEZONE
BEGIN:VEVENT
DTSTART;TZID=America/Chicago:20251025T103000
DTEND;TZID=America/Chicago:20251025T123000
DTSTAMP:20260420T091843
CREATED:20251017T173012Z
LAST-MODIFIED:20251017T173220Z
UID:10704-1761388200-1761395400@wideriverwinery.com
SUMMARY:Witches Walk LeClaire!
DESCRIPTION:Are you ready to channel your inner witch? The annual LeClaire witches walk and trunk or treat is coming back this October\, 25th!  \nStarting at 10:30am\, the LeClaire witches walk is the perfect chance to channel your inner Hocus Pocus and bring the whole family to trick or treat at the many shops in LeClaire. Starting at the Civic Center\, there will be a costume contest from 10:30 to 11:30\, followed by games\, balloon animals\, and a trunk or treat in the Civic center parking lot. Afterwards\, hit the town and trick or treat in the many unique shops that LeClaire has to offer. All participating locations will have a trick-or-treat flyer posted outside. \nWhile the official witches walk will wrap up around 12:3o\, we will be here for the afterparty! Make sure to come and see us for candy\, wine slushies\, and your favorite bottles of wine before you wrap up your visit!
URL:https://wideriverwinery.com/event/witches-walk-leclaire/
CATEGORIES:LeClaire
ATTACH;FMTTYPE=image/jpeg:https://wideriverwinery.com/wp-content/uploads/2025/10/WitchesWalk2025_lxhm.jpg
END:VEVENT
END:VCALENDAR