BEGIN:VCALENDAR
VERSION:2.0
PRODID:-//Wide River Winery - ECPv6.15.18//NONSGML v1.0//EN
CALSCALE:GREGORIAN
METHOD:PUBLISH
X-WR-CALNAME:Wide River Winery
X-ORIGINAL-URL:https://wideriverwinery.com
X-WR-CALDESC:Events for Wide River Winery
REFRESH-INTERVAL;VALUE=DURATION:PT1H
X-Robots-Tag:noindex
X-PUBLISHED-TTL:PT1H
BEGIN:VTIMEZONE
TZID:America/Chicago
BEGIN:DAYLIGHT
TZOFFSETFROM:-0600
TZOFFSETTO:-0500
TZNAME:CDT
DTSTART:20250309T080000
END:DAYLIGHT
BEGIN:STANDARD
TZOFFSETFROM:-0500
TZOFFSETTO:-0600
TZNAME:CST
DTSTART:20251102T070000
END:STANDARD
BEGIN:DAYLIGHT
TZOFFSETFROM:-0600
TZOFFSETTO:-0500
TZNAME:CDT
DTSTART:20260308T080000
END:DAYLIGHT
BEGIN:STANDARD
TZOFFSETFROM:-0500
TZOFFSETTO:-0600
TZNAME:CST
DTSTART:20261101T070000
END:STANDARD
BEGIN:DAYLIGHT
TZOFFSETFROM:-0600
TZOFFSETTO:-0500
TZNAME:CDT
DTSTART:20270314T080000
END:DAYLIGHT
BEGIN:STANDARD
TZOFFSETFROM:-0500
TZOFFSETTO:-0600
TZNAME:CST
DTSTART:20271107T070000
END:STANDARD
END:VTIMEZONE
BEGIN:VEVENT
DTSTART;TZID=America/Chicago:20260216T110000
DTEND;TZID=America/Chicago:20260216T170000
DTSTAMP:20260420T092654
CREATED:20260203T183448Z
LAST-MODIFIED:20260213T212620Z
UID:10874-1771239600-1771261200@wideriverwinery.com
SUMMARY:Celebrate Presidents Day With Us- Clinton & LeClaire Tasting Rooms Will Be Open
DESCRIPTION:Do you find that you’re missing your favorite wine on Monday’s in LeClaire? We have some great news for you! While our winter hours are still in effect\, we will be open on Monday\, February 16th for the President’s Day Holiday. Come visit us for good times\, delicious wine and to wind down your three day weekend- at our Clinton and LeClaire tasting room locations. We can’t wait to see you there!
URL:https://wideriverwinery.com/event/celebrate-presidents-day-with-us-all-three-tasting-rooms-will-be-open/
CATEGORIES:Clinton,LeClaire
ATTACH;FMTTYPE=image/jpeg:https://wideriverwinery.com/wp-content/uploads/2026/02/02_23_8_presidents_who_loved_wine_a_lot_hero_gettyimages_1314511793_3307738_3246312_3246300_1920x1280.jpeg
END:VEVENT
END:VCALENDAR