BEGIN:VCALENDAR
VERSION:2.0
PRODID:-//Wide River Winery - ECPv6.15.18//NONSGML v1.0//EN
CALSCALE:GREGORIAN
METHOD:PUBLISH
X-WR-CALNAME:Wide River Winery
X-ORIGINAL-URL:https://wideriverwinery.com
X-WR-CALDESC:Events for Wide River Winery
REFRESH-INTERVAL;VALUE=DURATION:PT1H
X-Robots-Tag:noindex
X-PUBLISHED-TTL:PT1H
BEGIN:VTIMEZONE
TZID:America/Chicago
BEGIN:DAYLIGHT
TZOFFSETFROM:-0600
TZOFFSETTO:-0500
TZNAME:CDT
DTSTART:20190310T080000
END:DAYLIGHT
BEGIN:STANDARD
TZOFFSETFROM:-0500
TZOFFSETTO:-0600
TZNAME:CST
DTSTART:20191103T070000
END:STANDARD
BEGIN:DAYLIGHT
TZOFFSETFROM:-0600
TZOFFSETTO:-0500
TZNAME:CDT
DTSTART:20200308T080000
END:DAYLIGHT
BEGIN:STANDARD
TZOFFSETFROM:-0500
TZOFFSETTO:-0600
TZNAME:CST
DTSTART:20201101T070000
END:STANDARD
BEGIN:DAYLIGHT
TZOFFSETFROM:-0600
TZOFFSETTO:-0500
TZNAME:CDT
DTSTART:20210314T080000
END:DAYLIGHT
BEGIN:STANDARD
TZOFFSETFROM:-0500
TZOFFSETTO:-0600
TZNAME:CST
DTSTART:20211107T070000
END:STANDARD
END:VTIMEZONE
BEGIN:VEVENT
DTSTART;TZID=America/Chicago:20200822T150000
DTEND;TZID=America/Chicago:20200822T180000
DTSTAMP:20260425T102323
CREATED:20200413T171654Z
LAST-MODIFIED:20200413T171654Z
UID:6026-1598108400-1598119200@wideriverwinery.com
SUMMARY:Wine Walk - benefits Gilda's Club
DESCRIPTION:Stroll the Village and sample wines and other beverages with a $25 cash donation supporting Gilda’s Club. Sip\, Sip\, Hooray for Gilda’s! You must be 21 or older to participate.
URL:https://wideriverwinery.com/event/wine-walk-benefits-gildas-club/
LOCATION:Village of East Davenport\, 1128 Mound Street\, Davenport\, IA\, 52803\, United States
END:VEVENT
END:VCALENDAR