BEGIN:VCALENDAR
VERSION:2.0
PRODID:-//Wide River Winery - ECPv6.15.18//NONSGML v1.0//EN
CALSCALE:GREGORIAN
METHOD:PUBLISH
X-ORIGINAL-URL:https://wideriverwinery.com
X-WR-CALDESC:Events for Wide River Winery
REFRESH-INTERVAL;VALUE=DURATION:PT1H
X-Robots-Tag:noindex
X-PUBLISHED-TTL:PT1H
BEGIN:VTIMEZONE
TZID:America/Chicago
BEGIN:DAYLIGHT
TZOFFSETFROM:-0600
TZOFFSETTO:-0500
TZNAME:CDT
DTSTART:20230312T080000
END:DAYLIGHT
BEGIN:STANDARD
TZOFFSETFROM:-0500
TZOFFSETTO:-0600
TZNAME:CST
DTSTART:20231105T070000
END:STANDARD
BEGIN:DAYLIGHT
TZOFFSETFROM:-0600
TZOFFSETTO:-0500
TZNAME:CDT
DTSTART:20240310T080000
END:DAYLIGHT
BEGIN:STANDARD
TZOFFSETFROM:-0500
TZOFFSETTO:-0600
TZNAME:CST
DTSTART:20241103T070000
END:STANDARD
BEGIN:DAYLIGHT
TZOFFSETFROM:-0600
TZOFFSETTO:-0500
TZNAME:CDT
DTSTART:20250309T080000
END:DAYLIGHT
BEGIN:STANDARD
TZOFFSETFROM:-0500
TZOFFSETTO:-0600
TZNAME:CST
DTSTART:20251102T070000
END:STANDARD
END:VTIMEZONE
BEGIN:VEVENT
DTSTART;TZID=America/Chicago:20240803T150000
DTEND;TZID=America/Chicago:20240803T170000
DTSTAMP:20260420T074357
CREATED:20240622T190239Z
LAST-MODIFIED:20240622T190239Z
UID:9901-1722697200-1722704400@wideriverwinery.com
SUMMARY:Live Music: Alan and Brianna in Davenport August 3rd
DESCRIPTION:Come enjoy wine and a show from Alex and Brianna! Alan is a longtime performer at Wide River\, playing shows in duos like Alex and Alan. This time\, he has a new vocalist\, Brianna\, accompanying him! Event is 3pm-5pm on Saturday August 3rd in our Davenport tasting room. Admission is free with purchase of wine and snacks.
URL:https://wideriverwinery.com/event/live-music-alan-and-brianna-in-davenport-august-3rd/
LOCATION:Village of East Davenport\, 1128 Mound Street\, Davenport\, IA\, 52803\, United States
CATEGORIES:Davenport
END:VEVENT
BEGIN:VEVENT
DTSTART;TZID=America/Chicago:20240804T140000
DTEND;TZID=America/Chicago:20240804T160000
DTSTAMP:20260420T074357
CREATED:20240622T190541Z
LAST-MODIFIED:20240709T195500Z
UID:9904-1722780000-1722787200@wideriverwinery.com
SUMMARY:Live Music: Shaun Easton in Clinton August 4th
DESCRIPTION:Shaun Easton is performing at our Clinton location! Shaun performs a combination of reggae\, country\, and blues. He enjoys covering current popular hits as well as playing his own original tracks. Event is from 2pm-4pm on Sunday\, August 4th in Clinton. Admission is free with purchase of wine or snacks.
URL:https://wideriverwinery.com/event/live-music-jordan-sellergren-in-clinton-august-4th/
LOCATION:Clinton\, 1776 E Deer Creek Rd\, Clinton\, IA\, 52763\, United States
CATEGORIES:Clinton
END:VEVENT
BEGIN:VEVENT
DTSTART;TZID=America/Chicago:20240807T173000
DTEND;TZID=America/Chicago:20240807T193000
DTSTAMP:20260420T074357
CREATED:20240722T153435Z
LAST-MODIFIED:20240805T191857Z
UID:9963-1723051800-1723059000@wideriverwinery.com
SUMMARY:Flower Arrangement and Wine Workshop at Clinton winery - Wed\, Aug 7\, 5:30pm
DESCRIPTION:Collaborating with Connie King from Prairie Belle Enterprises\, Wide River Winery is offering a Flower Arrangement and Wine Workshop at the Clinton winery: 1776 E Deer Creek Rd\, Clinton\, IA. Price per person is $50 and includes glass of wine/slushie/beer or non-alcohol offering\, snacks and your flower arrangement with a vase. Class is limited to 20 people. Buy your tickets online today to reserve a spot!
URL:https://wideriverwinery.com/event/flower-arrangement-and-wine-workshop-at-clinton-winery-wed-aug-7-530pm/
LOCATION:Clinton\, 1776 E Deer Creek Rd\, Clinton\, IA\, 52763\, United States
CATEGORIES:Clinton
END:VEVENT
BEGIN:VEVENT
DTSTART;TZID=America/Chicago:20240809T180000
DTEND;TZID=America/Chicago:20240809T200000
DTSTAMP:20260420T074357
CREATED:20240622T190904Z
LAST-MODIFIED:20240622T190904Z
UID:9907-1723226400-1723233600@wideriverwinery.com
SUMMARY:Live Music: Pigs and Clover in LeClaire August 9th
DESCRIPTION:Come sip wine and enjoy folk music from Pigs and Clover! Described as “Raw Iowa Honey Folk\,” this band performs their own original tracks. Event is from 6pm-8pm on Friday\, August 9th in LeClaire. Admission is free with purchase of wine or snacks.
URL:https://wideriverwinery.com/event/live-music-pigs-and-clover-in-leclaire-august-9th/
LOCATION:LeClaire\, 106 N Cody Road\, LeClaire\, IA\, 52753\, United States
CATEGORIES:LeClaire
END:VEVENT
BEGIN:VEVENT
DTSTART;TZID=America/Chicago:20240810T150000
DTEND;TZID=America/Chicago:20240810T180000
DTSTAMP:20260420T074357
CREATED:20240805T192547Z
LAST-MODIFIED:20240805T202259Z
UID:9979-1723302000-1723312800@wideriverwinery.com
SUMMARY:East Village Wine Walk - Village of East Davenport
DESCRIPTION:Start at one of the tents to pick up your wine glass and then travel to participating businesses — including Wide River Winery — in the village to receive your 1 oz sample of wine! Tents are located in front of the International Fire Museum\, Lagomarcino’s\, and the Village Theater.  Must be 21+ to participate.  Proceeds go to the Village of East Davenport Business Association. \nClick Here to Purchase Your Tickets \nOn Saturday\, Aug 10th\, Wide River Winery in the Village is offering a bottle of wine + box of take home slushie mix for $28 on the day of the wine walk.
URL:https://wideriverwinery.com/event/east-village-wine-walk-village-of-east-davenport/
LOCATION:Village of East Davenport\, 1128 Mound Street\, Davenport\, IA\, 52803\, United States
CATEGORIES:Davenport
END:VEVENT
BEGIN:VEVENT
DTSTART;TZID=America/Chicago:20240817T150000
DTEND;TZID=America/Chicago:20240817T170000
DTSTAMP:20260420T074357
CREATED:20240622T191038Z
LAST-MODIFIED:20240622T191038Z
UID:9910-1723906800-1723914000@wideriverwinery.com
SUMMARY:Live Music: Brian Skow in Davenport August 17th
DESCRIPTION:Come by our Davenport tasting room between 3pm-5pm on Saturday\, August 17th to unwind with locally grown Iowa wine and a live musical set from Brian Skow. An experienced pianist\, Brian Skow performs rock and blues around the Quad Cities. Admission is free with purchase of wine and snacks.
URL:https://wideriverwinery.com/event/live-music-brian-skow-in-davenport-august-17th/
LOCATION:Village of East Davenport\, 1128 Mound Street\, Davenport\, IA\, 52803\, United States
CATEGORIES:Davenport
END:VEVENT
BEGIN:VEVENT
DTSTART;TZID=America/Chicago:20240823T180000
DTEND;TZID=America/Chicago:20240823T200000
DTSTAMP:20260420T074357
CREATED:20240622T191409Z
LAST-MODIFIED:20240622T192737Z
UID:9913-1724436000-1724443200@wideriverwinery.com
SUMMARY:Live Music: Bucktown Revue in LeClaire August 23rd
DESCRIPTION:Stop by our LeClaire tasting room between 5pm-7pm on Friday\, August 23rd to unwind with locally grown Iowa wine and a live musical set from  Bucktown Revue. The Bucktown Revue is a program featuring Americana music from the Heartland. Their sound includes influences from genres such as bluegrass\, folk\, old time\, Celtic and roots. Admission is free with purchase of wine and snacks.
URL:https://wideriverwinery.com/event/live-music-bucktown-revue-in-leclaire-august-23rd/
LOCATION:LeClaire\, 106 N Cody Road\, LeClaire\, IA\, 52753\, United States
CATEGORIES:LeClaire
END:VEVENT
END:VCALENDAR